BEGIN:VCALENDAR
VERSION:2.0
PRODID:-//Kino Tuškanac//Filmski programi//HR
BEGIN:VEVENT
UID:856fea6a3cfbf2cfe837ca37e5a41146@kinotuskanac.hr
DTSTAMP:20260421T133234Z
DTSTART:20231215T200000
DTEND:20231215T220000
SUMMARY:Gremlini
LOCATION:Kino Tuškanac
DESCRIPTION:Gremlins, SAD, 1984 | Mjesto prikazivanja filma: Kino Forum (SD Stjepan Radić, Jarunska ul. 2) R: Joe Dante
END:VEVENT
END:VCALENDAR