BEGIN:VCALENDAR
VERSION:2.0
PRODID:-//Kino Tuškanac//Filmski programi//HR
BEGIN:VEVENT
UID:f5662ecc283fdf0e3521ec6b18552997@kinotuskanac.hr
DTSTAMP:20260421T220606Z
DTSTART:20231228T200000
DTEND:20231228T220000
SUMMARY:Imaš poruku
LOCATION:Kino Tuškanac
DESCRIPTION:You've Got Mail, SAD, 1998 | Mjesto prikazivanja filma: Kino Forum (SD Stjepan Radić, Jarunska ul. 2) R: Nora Ephron
END:VEVENT
END:VCALENDAR