BEGIN:VCALENDAR
VERSION:2.0
PRODID:-//Kino Tuškanac//Filmski programi//HR
BEGIN:VEVENT
UID:b1020ab9b66a7200747517d1f55a65a0@kinotuskanac.hr
DTSTAMP:20260419T210213Z
DTSTART:20240105T200000
DTEND:20240105T220000
SUMMARY:Sveta obitelj
LOCATION:Kino Tuškanac
DESCRIPTION:Hrvatska, 2023 | Mjesto prikazivanja filma: Kino Forum (SD Stjepan Radić, Jarunska ul. 2) R: Vlatka Vorkapić
END:VEVENT
END:VCALENDAR