BEGIN:VCALENDAR
VERSION:2.0
PRODID:-//Kino Tuškanac//Filmski programi//HR
BEGIN:VEVENT
UID:12f8d7c1a413df00fd2f6ee2d7f8ec88@kinotuskanac.hr
DTSTAMP:20260419T142104Z
DTSTART:20240109T200000
DTEND:20240109T220000
SUMMARY:20.000 vrsta pčela
LOCATION:Kino Tuškanac
DESCRIPTION:20.000 especies de abejas, Španjolska, 2023 | Mjesto prikazivanja filma: Kino Forum (SD Stjepan Radić, Jarunska ul. 2) R: Estibaliz Urresola Solaguren
END:VEVENT
END:VCALENDAR