BEGIN:VCALENDAR
VERSION:2.0
PRODID:-//Kino Tuškanac//Filmski programi//HR
BEGIN:VEVENT
UID:1f6f7959fe4c1d75a43b906c9c2a83c7@kinotuskanac.hr
DTSTAMP:20260419T224922Z
DTSTART:20240112T200000
DTEND:20240112T220000
SUMMARY:Udar sreće
LOCATION:Kino Tuškanac
DESCRIPTION:Coup de chance, Francuska, 2023 | Mjesto prikazivanja filma: Kino Forum (SD Stjepan Radić, Jarunska ul. 2) R: Woody Allen
END:VEVENT
END:VCALENDAR