BEGIN:VCALENDAR
VERSION:2.0
PRODID:-//Kino Tuškanac//Filmski programi//HR
BEGIN:VEVENT
UID:be673640889e7da51f0a5676c367deef@kinotuskanac.hr
DTSTAMP:20260420T130530Z
DTSTART:20240111T200000
DTEND:20240111T220000
SUMMARY:Palo lišće
LOCATION:Kino Tuškanac
DESCRIPTION:Kuolleet lehdet, Finska, Njemačka, 2023 | Mjesto prikazivanja filma: Kino Forum (SD Stjepan Radić, Jarunska ul. 2) R: Aki Kaurismäki
END:VEVENT
END:VCALENDAR