BEGIN:VCALENDAR
VERSION:2.0
PRODID:-//Kino Tuškanac//Filmski programi//HR
BEGIN:VEVENT
UID:d10484c6e552ddc027bbf1a7950383a5@kinotuskanac.hr
DTSTAMP:20260420T115303Z
DTSTART:20240115T200000
DTEND:20240115T220000
SUMMARY:Anatomija pada
LOCATION:Kino Tuškanac
DESCRIPTION:Anatomie d’une chute, Francuska, 2023 | Mjesto prikazivanja filma: Kulturno informativni centar KIC (Preradovićeva ul. 5) R: Justine Triet
END:VEVENT
END:VCALENDAR