BEGIN:VCALENDAR
VERSION:2.0
PRODID:-//Kino Tuškanac//Filmski programi//HR
BEGIN:VEVENT
UID:ca838975bf2b24b0035d955511536b79@kinotuskanac.hr
DTSTAMP:20260423T143727Z
DTSTART:20240119T200000
DTEND:20240119T220000
SUMMARY:Sunce je zašlo
LOCATION:Kino Tuškanac
DESCRIPTION:Eltávozott nap, Mađarska, 1968 | Mjesto prikazivanja filma: MM Centar (Studentski centar, Savska cesta 25) R: Márta Mészáros
END:VEVENT
END:VCALENDAR