BEGIN:VCALENDAR
VERSION:2.0
PRODID:-//Kino Tuškanac//Filmski programi//HR
BEGIN:VEVENT
UID:fa08c2546da975cca966e1e19f0bd729@kinotuskanac.hr
DTSTAMP:20260425T172437Z
DTSTART:20240206T200000
DTEND:20240206T220000
SUMMARY:Čuvar
LOCATION:Kino Tuškanac
DESCRIPTION:The Guardian, SAD, 1990 | Mjesto prikazivanja filma: Kino Forum (SD Stjepan Radić, Jarunska ul. 2) R: William Friedkin
END:VEVENT
END:VCALENDAR