BEGIN:VCALENDAR
VERSION:2.0
PRODID:-//Kino Tuškanac//Filmski programi//HR
BEGIN:VEVENT
UID:4c901f4b32eae35b127ec9611bb55bdf@kinotuskanac.hr
DTSTAMP:20260421T134331Z
DTSTART:20240214T200000
DTEND:20240214T220000
SUMMARY:Polako nikuda
LOCATION:Kino Tuškanac
DESCRIPTION:Hrvatska, 2023 | Mjesto prikazivanja filma: Kulturno informativni centar KIC (Preradovićeva ul. 5) R: Damir Čučić
END:VEVENT
END:VCALENDAR