BEGIN:VCALENDAR
VERSION:2.0
PRODID:-//Kino Tuškanac//Filmski programi//HR
BEGIN:VEVENT
UID:69a5516ac7fe24f589ff09680b344ff7@kinotuskanac.hr
DTSTAMP:20260423T143946Z
DTSTART:20240210T200000
DTEND:20240210T220000
SUMMARY:Devet mjeseci
LOCATION:Kino Tuškanac
DESCRIPTION:Kilenc hónap, Mađarska, 1976 | Mjesto prikazivanja filma: MM Centar (Studentski centar, Savska cesta 25) R: Márta Mészáros
END:VEVENT
END:VCALENDAR