BEGIN:VCALENDAR
VERSION:2.0
PRODID:-//Kino Tuškanac//Filmski programi//HR
BEGIN:VEVENT
UID:0eb54bdf36bddf11c9f2ddbc72d16962@kinotuskanac.hr
DTSTAMP:20260423T144010Z
DTSTART:20240211T200000
DTEND:20240211T220000
SUMMARY:Njih dvije
LOCATION:Kino Tuškanac
DESCRIPTION:Ök ketten, Mađarska, 1977 | Mjesto prikazivanja filma: MM Centar (Studentski centar, Savska cesta 25) R: Márta Mészáros
END:VEVENT
END:VCALENDAR