BEGIN:VCALENDAR
VERSION:2.0
PRODID:-//Kino Tuškanac//Filmski programi//HR
BEGIN:VEVENT
UID:d67fdf2f137ab097fc928782a24d3441@kinotuskanac.hr
DTSTAMP:20260424T010446Z
DTSTART:20240215T200000
DTEND:20240215T220000
SUMMARY:Prošli životi
LOCATION:Kino Tuškanac
DESCRIPTION:Past Lives, SAD, Južna Koreja, 2023 | Mjesto prikazivanja filma: Kino Forum (SD Stjepan Radić, Jarunska ul. 2) R: Celine Song
END:VEVENT
END:VCALENDAR