BEGIN:VCALENDAR
VERSION:2.0
PRODID:-//Kino Tuškanac//Filmski programi//HR
BEGIN:VEVENT
UID:3982cde8f0be53848f9130093105175d@kinotuskanac.hr
DTSTAMP:20260422T061059Z
DTSTART:20240229T200000
DTEND:20240229T220000
SUMMARY:Kako se udati za milijunaša
LOCATION:Kino Tuškanac
DESCRIPTION:How to Marry a Millionaire, SAD, 1953 | Mjesto prikazivanja filma: Kino Forum (SD Stjepan Radić, Jarunska ul. 2) R: Jean Negulesco
END:VEVENT
END:VCALENDAR