BEGIN:VCALENDAR
VERSION:2.0
PRODID:-//Kino Tuškanac//Filmski programi//HR
BEGIN:VEVENT
UID:4e558af95404de5883c68180d38cb342@kinotuskanac.hr
DTSTAMP:20260424T010855Z
DTSTART:20240225T200000
DTEND:20240225T220000
SUMMARY:Pogled u zjenicu sunca
LOCATION:Kino Tuškanac
DESCRIPTION:Jugoslavija: Hrvatska, 1966 | Mjesto prikazivanja filma: MM Centar (Studentski centar, Savska cesta 25) R: Veljko Bulajić
END:VEVENT
END:VCALENDAR