BEGIN:VCALENDAR
VERSION:2.0
PRODID:-//Kino Tuškanac//Filmski programi//HR
BEGIN:VEVENT
UID:4624b0ce1128b2cfd297bb39dfebc0fb@kinotuskanac.hr
DTSTAMP:20260421T230945Z
DTSTART:20240313T200000
DTEND:20240313T220000
SUMMARY:Sedam godina vjernosti
LOCATION:Kino Tuškanac
DESCRIPTION:The Seven Year Itch, SAD, 1955 | Mjesto prikazivanja filma: Kulturno informativni centar KIC (Preradovićeva ul. 5) R: Billy Wilder
END:VEVENT
END:VCALENDAR