BEGIN:VCALENDAR
VERSION:2.0
PRODID:-//Kino Tuškanac//Filmski programi//HR
BEGIN:VEVENT
UID:b83e27461186c7be6d258a737700f331@kinotuskanac.hr
DTSTAMP:20260424T010338Z
DTSTART:20240228T200000
DTEND:20240228T220000
SUMMARY:Prošli životi
LOCATION:Kino Tuškanac
DESCRIPTION:Past Lives, SAD, Južna Koreja, 2023 | Mjesto prikazivanja filma: Kino Forum (SD Stjepan Radić, Jarunska ul. 2) R: Celine Song
END:VEVENT
END:VCALENDAR