BEGIN:VCALENDAR
VERSION:2.0
PRODID:-//Kino Tuškanac//Filmski programi//HR
BEGIN:VEVENT
UID:d5d9f1066cf5a9d59670f6a98a62130a@kinotuskanac.hr
DTSTAMP:20260420T133820Z
DTSTART:20240314T200000
DTEND:20240314T220000
SUMMARY:The Holdovers
LOCATION:Kino Tuškanac
DESCRIPTION:SAD, 2023 | Mjesto prikazivanja filma: Kino Forum (SD Stjepan Radić, Jarunska ul. 2) R: Alexander Payne
END:VEVENT
END:VCALENDAR