BEGIN:VCALENDAR
VERSION:2.0
PRODID:-//Kino Tuškanac//Filmski programi//HR
BEGIN:VEVENT
UID:7a2d2b54b3620c4764254b2f568206fc@kinotuskanac.hr
DTSTAMP:20260420T115243Z
DTSTART:20240308T200000
DTEND:20240308T220000
SUMMARY:Čovjek koga treba ubiti
LOCATION:Kino Tuškanac
DESCRIPTION:Jugoslavija: Hrvatska, 1979 | Mjesto prikazivanja filma: MM Centar (Studentski centar, Savska cesta 25) R: Veljko Bulajić
END:VEVENT
END:VCALENDAR