BEGIN:VCALENDAR
VERSION:2.0
PRODID:-//Kino Tuškanac//Filmski programi//HR
BEGIN:VEVENT
UID:bdbc341b9320c20d161b8a61291b1b77@kinotuskanac.hr
DTSTAMP:20260421T093330Z
DTSTART:20240310T200000
DTEND:20240310T220000
SUMMARY:Donator
LOCATION:Kino Tuškanac
DESCRIPTION:Jugoslavija: Hrvatska, 1989 | Mjesto prikazivanja filma: MM Centar (Studentski centar, Savska cesta 25) R: Veljko Bulajić
END:VEVENT
END:VCALENDAR