BEGIN:VCALENDAR
VERSION:2.0
PRODID:-//Kino Tuškanac//Filmski programi//HR
BEGIN:VEVENT
UID:1e034f5a9776e575486d8606b293eb98@kinotuskanac.hr
DTSTAMP:20260420T115021Z
DTSTART:20240319T200000
DTEND:20240319T220000
SUMMARY:Kozara
LOCATION:Kino Tuškanac
DESCRIPTION:Jugoslavija: Hrvatska, 1962 | Mjesto prikazivanja filma: MM Centar (Studentski centar, Savska cesta 25) R: Veljko Bulajić
END:VEVENT
END:VCALENDAR