BEGIN:VCALENDAR
VERSION:2.0
PRODID:-//Kino Tuškanac//Filmski programi//HR
BEGIN:VEVENT
UID:dc7f5f5d4db4825d60e5b70290f3b8de@kinotuskanac.hr
DTSTAMP:20260423T145037Z
DTSTART:20240321T200000
DTEND:20240321T220000
SUMMARY:Nasljeđe
LOCATION:Kino Tuškanac
DESCRIPTION:Örökség, Mađarska, 1980 | Mjesto prikazivanja filma: MM Centar (Studentski centar, Savska cesta 25) R: Márta Mészáros
END:VEVENT
END:VCALENDAR