BEGIN:VCALENDAR
VERSION:2.0
PRODID:-//Kino Tuškanac//Filmski programi//HR
BEGIN:VEVENT
UID:77677e298823ebbcc748aa3e0237b620@kinotuskanac.hr
DTSTAMP:20260423T112408Z
DTSTART:20240312T200000
DTEND:20240312T220000
SUMMARY:Dan u prirodi
LOCATION:Kino Tuškanac
DESCRIPTION:Partie de Campagne, Francuska, 1936 | Mjesto prikazivanja filma: Kulturno informativni centar KIC (Preradovićeva ul. 5) R: Jean Renoir
END:VEVENT
END:VCALENDAR