BEGIN:VCALENDAR
VERSION:2.0
PRODID:-//Kino Tuškanac//Filmski programi//HR
BEGIN:VEVENT
UID:0efc8dc8fd11c81aab45913e437c0933@kinotuskanac.hr
DTSTAMP:20260423T150612Z
DTSTART:20240312T200000
DTEND:20240312T220000
SUMMARY:Zaručnici s Mac Donaldova mosta (Čuvaj se tamnih naočala)
LOCATION:Kino Tuškanac
DESCRIPTION:Les fiancés du pont MacDonald ou (Méfiez-vous des lunettes noires), Francuska, 1961 R: Agnès Varda
END:VEVENT
END:VCALENDAR