BEGIN:VCALENDAR
VERSION:2.0
PRODID:-//Kino Tuškanac//Filmski programi//HR
BEGIN:VEVENT
UID:7fd46ae5c45adaf2379748a9f28e7988@kinotuskanac.hr
DTSTAMP:20260423T113619Z
DTSTART:20240312T200000
DTEND:20240312T220000
SUMMARY:Djevojka, ona je 100%
LOCATION:Kino Tuškanac
DESCRIPTION:100% na onna no ko, Japan, 1983 R: Naoto Yamakawa
END:VEVENT
END:VCALENDAR