BEGIN:VCALENDAR
VERSION:2.0
PRODID:-//Kino Tuškanac//Filmski programi//HR
BEGIN:VEVENT
UID:d9a8328c84c9e3fbd43cd22dd0d0d2b6@kinotuskanac.hr
DTSTAMP:20260423T144810Z
DTSTART:20240312T200000
DTEND:20240312T220000
SUMMARY:Osa
LOCATION:Kino Tuškanac
DESCRIPTION:Wasp, Ujedinjeno Kraljevstvo, 2003 R: Andrea Arnold
END:VEVENT
END:VCALENDAR