BEGIN:VCALENDAR
VERSION:2.0
PRODID:-//Kino Tuškanac//Filmski programi//HR
BEGIN:VEVENT
UID:d6762c09e808a0ace48cc550ef85dbf8@kinotuskanac.hr
DTSTAMP:20260423T145926Z
DTSTART:20240312T200000
DTEND:20240312T220000
SUMMARY:Jednominutni vremeplov
LOCATION:Kino Tuškanac
DESCRIPTION:One-minute Time Machine, SAD, 2014 R: Devon Avery
END:VEVENT
END:VCALENDAR