BEGIN:VCALENDAR
VERSION:2.0
PRODID:-//Kino Tuškanac//Filmski programi//HR
BEGIN:VEVENT
UID:0aebb9eeb09384d921dd651979c48416@kinotuskanac.hr
DTSTAMP:20260423T144935Z
DTSTART:20240312T200000
DTEND:20240312T220000
SUMMARY:Snježna ptica
LOCATION:Kino Tuškanac
DESCRIPTION:Snowbird, SAD, 2016 R: Sean Baker
END:VEVENT
END:VCALENDAR