BEGIN:VCALENDAR
VERSION:2.0
PRODID:-//Kino Tuškanac//Filmski programi//HR
BEGIN:VEVENT
UID:0263cb262581bd568e211d7501291518@kinotuskanac.hr
DTSTAMP:20260420T115139Z
DTSTART:20240327T200000
DTEND:20240327T220000
SUMMARY:Anatomija pada
LOCATION:Kino Tuškanac
DESCRIPTION:Anatomie d’une chute, Francuska, 2023 | Mjesto prikazivanja filma: Kulturno informativni centar KIC (Preradovićeva ul. 5) R: Justine Triet
END:VEVENT
END:VCALENDAR