BEGIN:VCALENDAR
VERSION:2.0
PRODID:-//Kino Tuškanac//Filmski programi//HR
BEGIN:VEVENT
UID:a1562b2e6f34db08287c6c7c9fa06191@kinotuskanac.hr
DTSTAMP:20260420T133901Z
DTSTART:20240404T200000
DTEND:20240404T220000
SUMMARY:The Holdovers
LOCATION:Kino Tuškanac
DESCRIPTION:SAD, 2023 | Mjesto prikazivanja filma: Kino Forum (SD Stjepan Radić, Jarunska ul. 2) R: Alexander Payne
END:VEVENT
END:VCALENDAR