BEGIN:VCALENDAR
VERSION:2.0
PRODID:-//Kino Tuškanac//Filmski programi//HR
BEGIN:VEVENT
UID:39d785058f93d68a84ee2d6e902fcc6a@kinotuskanac.hr
DTSTAMP:20260423T113506Z
DTSTART:20240615T110000
DTEND:20240615T130000
SUMMARY:Ljepotica i zvijer
LOCATION:Kino Tuškanac
DESCRIPTION:Beauty and the Beast, SAD, 1991 | Mjesto prikazivanja filma: Scena Ribnjak (Centar mladih Ribnjak, Park Ribnjak 1) R: Gary Trousdale
END:VEVENT
END:VCALENDAR