BEGIN:VCALENDAR
VERSION:2.0
PRODID:-//Kino Tuškanac//Filmski programi//HR
BEGIN:VEVENT
UID:0629ba8d4207d15136cee4c6b63c4e9d@kinotuskanac.hr
DTSTAMP:20260423T144817Z
DTSTART:20240423T200000
DTEND:20240423T220000
SUMMARY:Oni ne postoje
LOCATION:Kino Tuškanac
DESCRIPTION:Lays lahum wujud, Palestina, 1974 | Mjesto prikazivanja filma: Kulturno informativni centar KIC (Preradovićeva ul. 5) R: Mustafa Abu Ali
END:VEVENT
END:VCALENDAR