BEGIN:VCALENDAR
VERSION:2.0
PRODID:-//Kino Tuškanac//Filmski programi//HR
BEGIN:VEVENT
UID:0d91ab6df98a197ae5f622e22e426765@kinotuskanac.hr
DTSTAMP:20260423T144920Z
DTSTART:20240423T200000
DTEND:20240423T220000
SUMMARY:Dar
LOCATION:Kino Tuškanac
DESCRIPTION:The Present, Palestina, 2020 R: Farah Nabulsi
END:VEVENT
END:VCALENDAR