BEGIN:VCALENDAR
VERSION:2.0
PRODID:-//Kino Tuškanac//Filmski programi//HR
BEGIN:VEVENT
UID:fa7a17e76930a34747b61b707b6b48d9@kinotuskanac.hr
DTSTAMP:20260420T133732Z
DTSTART:20240507T210000
DTEND:20240507T230000
SUMMARY:Strašilo
LOCATION:Kino Tuškanac
DESCRIPTION:Jugoslavija: Hrvatska, 1957 | Mjesto prikazivanja filma: Kulturno informativni centar KIC (Preradovićeva ul. 5) R: Vatroslav Mimica
END:VEVENT
END:VCALENDAR