BEGIN:VCALENDAR
VERSION:2.0
PRODID:-//Kino Tuškanac//Filmski programi//HR
BEGIN:VEVENT
UID:0c42003dcef55a2b8adefdfc383d0c41@kinotuskanac.hr
DTSTAMP:20260420T115017Z
DTSTART:20240507T210000
DTEND:20240507T230000
SUMMARY:Veliki strah
LOCATION:Kino Tuškanac
DESCRIPTION:Jugoslavija: Hrvatska, 1958 R: Dušan Vukotić
END:VEVENT
END:VCALENDAR