BEGIN:VCALENDAR
VERSION:2.0
PRODID:-//Kino Tuškanac//Filmski programi//HR
BEGIN:VEVENT
UID:4d1f9b67db262ab6a8aef7e08f8898a6@kinotuskanac.hr
DTSTAMP:20260420T200038Z
DTSTART:20240509T200000
DTEND:20240509T220000
SUMMARY:Srbenka
LOCATION:Kino Tuškanac
DESCRIPTION:Hrvatska, 2018 | Mjesto prikazivanja filma: Kulturno informativni centar KIC (Preradovićeva ul. 5) R: Nebojša Slijepčević
END:VEVENT
END:VCALENDAR