BEGIN:VCALENDAR
VERSION:2.0
PRODID:-//Kino Tuškanac//Filmski programi//HR
BEGIN:VEVENT
UID:7a1f1cfebaf193ba45e10660e4a494fd@kinotuskanac.hr
DTSTAMP:20260423T111358Z
DTSTART:20240602T190000
DTEND:20240602T210000
SUMMARY:Sunce budućnosti
LOCATION:Kino Tuškanac
DESCRIPTION:Il sol dell’avvenire, Italija, Francuska, 2023 | Mjesto prikazivanja filma: Kulturno informativni centar KIC (Preradovićeva ul. 5) R: Nanni Moretti
END:VEVENT
END:VCALENDAR