BEGIN:VCALENDAR
VERSION:2.0
PRODID:-//Kino Tuškanac//Filmski programi//HR
BEGIN:VEVENT
UID:d0da933ef9d624d5d55a58637b970ff2@kinotuskanac.hr
DTSTAMP:20260423T112415Z
DTSTART:20240606T200000
DTEND:20240606T220000
SUMMARY:Suha trava
LOCATION:Kino Tuškanac
DESCRIPTION:Kuru Otlar Üstüne, Turska, Francuska, Njemačka, 2023 | Mjesto prikazivanja filma: Kino Forum (SD Stjepan Radić, Jarunska ul. 2) R: Nuri Bilge Ceylan
END:VEVENT
END:VCALENDAR