BEGIN:VCALENDAR
VERSION:2.0
PRODID:-//Kino Tuškanac//Filmski programi//HR
BEGIN:VEVENT
UID:2408e78861da9519e8c4d30a97e3f288@kinotuskanac.hr
DTSTAMP:20260421T185011Z
DTSTART:20060613T210000
DTEND:20060613T230000
SUMMARY:Zajednički stol i postelja
LOCATION:Kino Tuškanac
DESCRIPTION:Domicile conjugal, Francuska, Italija, 1970 R: François Truffaut
END:VEVENT
END:VCALENDAR