BEGIN:VCALENDAR
VERSION:2.0
PRODID:-//Kino Tuškanac//Filmski programi//HR
BEGIN:VEVENT
UID:cccb511547c46285b1201aaed63cd935@kinotuskanac.hr
DTSTAMP:20260425T232957Z
DTSTART:20240620T190000
DTEND:20240620T210000
SUMMARY:Buđenje
LOCATION:Kino Tuškanac
DESCRIPTION:Jugoslavija: Hrvatska, 1964 | Mjesto prikazivanja filma: Kulturno informativni centar KIC (Preradovićeva ul. 5) R: Branko Marjanović
END:VEVENT
END:VCALENDAR