BEGIN:VCALENDAR
VERSION:2.0
PRODID:-//Kino Tuškanac//Filmski programi//HR
BEGIN:VEVENT
UID:5e46404f30e0b569dea42e1962c87cb5@kinotuskanac.hr
DTSTAMP:20260425T031214Z
DTSTART:20240620T190000
DTEND:20240620T210000
SUMMARY:Lepeza svetog Jakova
LOCATION:Kino Tuškanac
DESCRIPTION:Jugoslavija: Hrvatska, 1975 R: Branko Marjanović
END:VEVENT
END:VCALENDAR