BEGIN:VCALENDAR
VERSION:2.0
PRODID:-//Kino Tuškanac//Filmski programi//HR
BEGIN:VEVENT
UID:f9105a17b1a134c7b48ba5735e64d15b@kinotuskanac.hr
DTSTAMP:20260423T160541Z
DTSTART:20240620T190000
DTEND:20240620T210000
SUMMARY:Puh
LOCATION:Kino Tuškanac
DESCRIPTION:Jugoslavija: Hrvatska, 1977 R: Branko Marjanović
END:VEVENT
END:VCALENDAR