BEGIN:VCALENDAR
VERSION:2.0
PRODID:-//Kino Tuškanac//Filmski programi//HR
BEGIN:VEVENT
UID:f4cf914b23f6df08c707b052541e780d@kinotuskanac.hr
DTSTAMP:20260423T143625Z
DTSTART:20240625T210000
DTEND:20240625T230000
SUMMARY:Mještanin
LOCATION:Kino Tuškanac
DESCRIPTION:De Stedeling, Nizozemska, 1984 | Mjesto prikazivanja filma: Kulturno informativni centar KIC (Preradovićeva ul. 5) R: Alex van Warmerdam
END:VEVENT
END:VCALENDAR