BEGIN:VCALENDAR
VERSION:2.0
PRODID:-//Kino Tuškanac//Filmski programi//HR
BEGIN:VEVENT
UID:65d24cb7deeb0d9375c7b94de2b82904@kinotuskanac.hr
DTSTAMP:20260423T150247Z
DTSTART:20240625T210000
DTEND:20240625T230000
SUMMARY:Oni dolaze bez srama - Što se dogodilo Magdaleni Jung?
LOCATION:Kino Tuškanac
DESCRIPTION:Die Ungenierten kommen - What happened to Magdalena Jung?, Njemačka, 1983 R: Christoph Schlingensief
END:VEVENT
END:VCALENDAR