BEGIN:VCALENDAR
VERSION:2.0
PRODID:-//Kino Tuškanac//Filmski programi//HR
BEGIN:VEVENT
UID:1df2f163ed5c94c253db4257ab082173@kinotuskanac.hr
DTSTAMP:20260423T144647Z
DTSTART:20240625T210000
DTEND:20240625T230000
SUMMARY:Zora zlog milenija
LOCATION:Kino Tuškanac
DESCRIPTION:Dawn of an Evil Millennium, SAD, 1988 R: Damon Packard
END:VEVENT
END:VCALENDAR