BEGIN:VCALENDAR
VERSION:2.0
PRODID:-//Kino Tuškanac//Filmski programi//HR
BEGIN:VEVENT
UID:9bef84bb8b72320847202d70c7b1ca39@kinotuskanac.hr
DTSTAMP:20260421T185017Z
DTSTART:20060614T190000
DTEND:20060614T210000
SUMMARY:Zajednički stol i postelja
LOCATION:Kino Tuškanac
DESCRIPTION:Domicile conjugal, Francuska, Italija, 1970 R: François Truffaut
END:VEVENT
END:VCALENDAR