BEGIN:VCALENDAR
VERSION:2.0
PRODID:-//Kino Tuškanac//Filmski programi//HR
BEGIN:VEVENT
UID:b659f40971b83d9418eb2e7738486a20@kinotuskanac.hr
DTSTAMP:20260421T012504Z
DTSTART:20240712T210000
DTEND:20240712T230000
SUMMARY:Nakon plime
LOCATION:Kino Tuškanac
DESCRIPTION:Kapag wala nang mga alon, Filipini, Francuska, Portugal, Danska, 2022 | Mjesto prikazivanja filma: Kino Forum (SD Stjepan Radić, Jarunska ul. 2) R: Lav Diaz
END:VEVENT
END:VCALENDAR