BEGIN:VCALENDAR
VERSION:2.0
PRODID:-//Kino Tuškanac//Filmski programi//HR
BEGIN:VEVENT
UID:72d0e2db17b7c349841e9276764b2afe@kinotuskanac.hr
DTSTAMP:20260423T134925Z
DTSTART:20240721T210000
DTEND:20240721T230000
SUMMARY:Veliki majstor
LOCATION:Kino Tuškanac
DESCRIPTION:Yi dai zong shi, Hong Kong, Kina, 2013 | Mjesto prikazivanja filma: Kulturno informativni centar KIC (Preradovićeva ul. 5) R: Wong Kar-wai
END:VEVENT
END:VCALENDAR