BEGIN:VCALENDAR
VERSION:2.0
PRODID:-//Kino Tuškanac//Filmski programi//HR
BEGIN:VEVENT
UID:541c2dc8230b7e8ba17e149d029a1f56@kinotuskanac.hr
DTSTAMP:20260423T111359Z
DTSTART:20240714T210000
DTEND:20240714T230000
SUMMARY:Kineska četvrt
LOCATION:Kino Tuškanac
DESCRIPTION:Chinatown, SAD, 1974 | Mjesto prikazivanja filma: Kulturno informativni centar KIC (Preradovićeva ul. 5) R: Roman Polanski
END:VEVENT
END:VCALENDAR