BEGIN:VCALENDAR
VERSION:2.0
PRODID:-//Kino Tuškanac//Filmski programi//HR
BEGIN:VEVENT
UID:329aa7061ec82364f18cfad3abb1e1b9@kinotuskanac.hr
DTSTAMP:20260424T143146Z
DTSTART:20240726T210000
DTEND:20240726T230000
SUMMARY:Pasje poslijepodne
LOCATION:Kino Tuškanac
DESCRIPTION:Dog Day Afternoon, SAD, 1975 | Mjesto prikazivanja filma: Kulturno informativni centar KIC (Preradovićeva ul. 5) R: Sidney Lumet
END:VEVENT
END:VCALENDAR